BEGIN:VCALENDAR
VERSION:2.0
PRODID:-//Dementia Friendly Wyoming - ECPv6.15.20//NONSGML v1.0//EN
CALSCALE:GREGORIAN
METHOD:PUBLISH
X-ORIGINAL-URL:https://dfwsheridan.org
X-WR-CALDESC:Events for Dementia Friendly Wyoming
REFRESH-INTERVAL;VALUE=DURATION:PT1H
X-Robots-Tag:noindex
X-PUBLISHED-TTL:PT1H
BEGIN:VTIMEZONE
TZID:America/Denver
BEGIN:DAYLIGHT
TZOFFSETFROM:-0700
TZOFFSETTO:-0600
TZNAME:MDT
DTSTART:20240310T090000
END:DAYLIGHT
BEGIN:STANDARD
TZOFFSETFROM:-0600
TZOFFSETTO:-0700
TZNAME:MST
DTSTART:20241103T080000
END:STANDARD
BEGIN:DAYLIGHT
TZOFFSETFROM:-0700
TZOFFSETTO:-0600
TZNAME:MDT
DTSTART:20250309T090000
END:DAYLIGHT
BEGIN:STANDARD
TZOFFSETFROM:-0600
TZOFFSETTO:-0700
TZNAME:MST
DTSTART:20251102T080000
END:STANDARD
BEGIN:DAYLIGHT
TZOFFSETFROM:-0700
TZOFFSETTO:-0600
TZNAME:MDT
DTSTART:20260308T090000
END:DAYLIGHT
BEGIN:STANDARD
TZOFFSETFROM:-0600
TZOFFSETTO:-0700
TZNAME:MST
DTSTART:20261101T080000
END:STANDARD
END:VTIMEZONE
BEGIN:VEVENT
DTSTART;TZID=America/Denver:20250910T100000
DTEND;TZID=America/Denver:20250910T113000
DTSTAMP:20260425T215211
CREATED:20250821T210158Z
LAST-MODIFIED:20250821T210204Z
UID:874-1757498400-1757503800@dfwsheridan.org
SUMMARY:Beyond the Five Senses: Understanding Sensory Experiences in Dementia
DESCRIPTION:Join us for a workshop exploring the complex sensory world of dementia. We will cover how the senses change and what to do when someone experiences things that feel real to them but different to you. Learn practical ways to make spaces more comfortable\, understand sensory experiences\, and use sight\, sound\, and touch to connect better. Attendees will gain awareness about these often-invisible challenges and a framework to support persons through all types of sensory changes.
URL:https://dfwsheridan.org/event/beyond-the-five-senses-understanding-sensory-experiences-in-dementia-2/
END:VEVENT
END:VCALENDAR