BEGIN:VCALENDAR
VERSION:2.0
PRODID:-//Dementia Friendly Wyoming - ECPv6.15.20//NONSGML v1.0//EN
CALSCALE:GREGORIAN
METHOD:PUBLISH
X-ORIGINAL-URL:https://dfwsheridan.org
X-WR-CALDESC:Events for Dementia Friendly Wyoming
REFRESH-INTERVAL;VALUE=DURATION:PT1H
X-Robots-Tag:noindex
X-PUBLISHED-TTL:PT1H
BEGIN:VTIMEZONE
TZID:America/Denver
BEGIN:DAYLIGHT
TZOFFSETFROM:-0700
TZOFFSETTO:-0600
TZNAME:MDT
DTSTART:20240310T090000
END:DAYLIGHT
BEGIN:STANDARD
TZOFFSETFROM:-0600
TZOFFSETTO:-0700
TZNAME:MST
DTSTART:20241103T080000
END:STANDARD
BEGIN:DAYLIGHT
TZOFFSETFROM:-0700
TZOFFSETTO:-0600
TZNAME:MDT
DTSTART:20250309T090000
END:DAYLIGHT
BEGIN:STANDARD
TZOFFSETFROM:-0600
TZOFFSETTO:-0700
TZNAME:MST
DTSTART:20251102T080000
END:STANDARD
BEGIN:DAYLIGHT
TZOFFSETFROM:-0700
TZOFFSETTO:-0600
TZNAME:MDT
DTSTART:20260308T090000
END:DAYLIGHT
BEGIN:STANDARD
TZOFFSETFROM:-0600
TZOFFSETTO:-0700
TZNAME:MST
DTSTART:20261101T080000
END:STANDARD
END:VTIMEZONE
BEGIN:VEVENT
DTSTART;TZID=America/Denver:20250813T100000
DTEND;TZID=America/Denver:20250813T113000
DTSTAMP:20260425T215207
CREATED:20250521T213619Z
LAST-MODIFIED:20250521T213630Z
UID:867-1755079200-1755084600@dfwsheridan.org
SUMMARY:From Intention to Completion: Navigating Changes in Planning and Follow-Through
DESCRIPTION:This workshop explores how changes in the brain’s organizational abilities (often called “executive function”) affect planning\, decision-making\, and completing everyday tasks. Participants will learn about common challenges\, from following multi-step instructions to adapting when routines are disrupted. The session provides practical strategies for both individuals experiencing these organizational changes and those supporting them\, with emphasis on environmental modifications and compassionate approaches that honor each person’s unique process and pace.
URL:https://dfwsheridan.org/event/from-intention-to-completion-navigating-changes-in-planning-and-follow-through/
END:VEVENT
END:VCALENDAR